BEGIN:VCALENDAR
VERSION:2.0
PRODID:-//Squarespace Inc/Squarespace 6//v6//EN
BEGIN:VEVENT
UID:5c47c48642bfc145251edd9c@squarespace.com
DTSTAMP:20190123T015316Z
DTSTART:20190506T220000Z
DTEND:20190507T110000Z
SUMMARY:Retreat Day - Sydney
GEO:-33.86882;151.209296
LOCATION:Sydney\, Australia
END:VEVENT
END:VCALENDAR
